BEGIN:VCALENDAR
VERSION:2.0
PRODID:-//Hannoverscher Radsport Club von 1912 e.V. - ECPv6.15.17.1//NONSGML v1.0//EN
CALSCALE:GREGORIAN
METHOD:PUBLISH
X-WR-CALNAME:Hannoverscher Radsport Club von 1912 e.V.
X-ORIGINAL-URL:https://www.hrc1912.de
X-WR-CALDESC:Veranstaltungen für Hannoverscher Radsport Club von 1912 e.V.
REFRESH-INTERVAL;VALUE=DURATION:PT1H
X-Robots-Tag:noindex
X-PUBLISHED-TTL:PT1H
BEGIN:VTIMEZONE
TZID:Europe/Berlin
BEGIN:DAYLIGHT
TZOFFSETFROM:+0100
TZOFFSETTO:+0200
TZNAME:CEST
DTSTART:20230326T010000
END:DAYLIGHT
BEGIN:STANDARD
TZOFFSETFROM:+0200
TZOFFSETTO:+0100
TZNAME:CET
DTSTART:20231029T010000
END:STANDARD
BEGIN:DAYLIGHT
TZOFFSETFROM:+0100
TZOFFSETTO:+0200
TZNAME:CEST
DTSTART:20240331T010000
END:DAYLIGHT
BEGIN:STANDARD
TZOFFSETFROM:+0200
TZOFFSETTO:+0100
TZNAME:CET
DTSTART:20241027T010000
END:STANDARD
BEGIN:DAYLIGHT
TZOFFSETFROM:+0100
TZOFFSETTO:+0200
TZNAME:CEST
DTSTART:20250330T010000
END:DAYLIGHT
BEGIN:STANDARD
TZOFFSETFROM:+0200
TZOFFSETTO:+0100
TZNAME:CET
DTSTART:20251026T010000
END:STANDARD
BEGIN:DAYLIGHT
TZOFFSETFROM:+0100
TZOFFSETTO:+0200
TZNAME:CEST
DTSTART:20260329T010000
END:DAYLIGHT
BEGIN:STANDARD
TZOFFSETFROM:+0200
TZOFFSETTO:+0100
TZNAME:CET
DTSTART:20261025T010000
END:STANDARD
BEGIN:DAYLIGHT
TZOFFSETFROM:+0100
TZOFFSETTO:+0200
TZNAME:CEST
DTSTART:20270328T010000
END:DAYLIGHT
BEGIN:STANDARD
TZOFFSETFROM:+0200
TZOFFSETTO:+0100
TZNAME:CET
DTSTART:20271031T010000
END:STANDARD
END:VTIMEZONE
BEGIN:VEVENT
DTSTART;TZID=Europe/Berlin:20260423T180000
DTEND;TZID=Europe/Berlin:20260423T180000
DTSTAMP:20260425T000107
CREATED:20260205T173759Z
LAST-MODIFIED:20260205T173922Z
UID:10003375-1776967200-1776967200@www.hrc1912.de
SUMMARY:Rennsporttraining
DESCRIPTION:„Du wirst nicht besser\, wenn du daheim bleibst. Wenn du schnell werden willst\, musst du dahin gehen\, wo die schnellen Jungs und Mädels fahren!“ \nUnter diesem Motto starten wir zwischen April und September mit unseren gemeinsamen Rennsporttraining – dem perfekten Format für alle\, die ihre Leistung gezielt verbessern und sich mit Gleichgesinnten messen wollen. \nJeden Dienstag- und Donnerstagabend treffen wir uns am Clubhaus zu einer intensiven Trainingseinheit mit einer Dauer von rund drei Stunden. Gefahren wird in strukturierter Gruppenform unter der Anleitung von ausgebildetem und lizenziertem Trainerpersonal. Unsere erfahrenen Trainer sorgen dafür\, dass jede Einheit sinnvoll aufgebaut ist – mit einem ausgewogenen Verhältnis von Ausdauer\, Technik\, Taktik und Tempoarbeit. Ob zur Rennvorbereitung\, für den Formaufbau im Frühjahr oder einfach\, um das Beste aus sich herauszuholen – bei uns bist du richtig\, wenn du sportlich ambitioniert bist und Lust auf effektives\, forderndes Training hast. \nUnsere Trainingsgruppe setzt sich aus Rennradfahrerinnen und -fahrern mit Ambitionen zusammen – vom geübten Einsteiger bis hin zum trainingsfleißigen Routinier. Was uns eint\, ist der Wille\, das Beste aus uns herauszuholen und dabei im Team schneller und stärker zu werden. \nStart- und Zielpunkt ist immer unser Clubhaus\, von dem aus wir pünktlich losfahren – also bitte rechtzeitig da sein! Gemeinsam arbeiten wir an Tempo\, Technik\, Taktik und Ausdauer. Und ganz nebenbei wächst das Gemeinschaftsgefühl – denn auch im Rennradsport zählt: Man wird zusammen besser. \nNeugierig geworden? Dann komm vorbei und fahr mit! Wer regelmäßig an seine Grenzen geht\, wird über sich hinauswachsen – und gemeinsam macht das Training gleich doppelt so viel Spaß.
URL:https://www.hrc1912.de/termin/rennsporttraining/2026-04-23/
LOCATION:Clubhaus\, Weddigenufer 23\, Hannover\, 30167\, Deutschland
CATEGORIES:Rennsport,Straße
ATTACH;FMTTYPE=image/jpeg:https://www.hrc1912.de/media/uploads/2024/10/rennsporttraining-banner-2022.jpg
ORGANIZER;CN="Hannoverscher Radsport Club von 1912":MAILTO:info@hrc1912.de
GEO:52.3776169;9.715914
X-APPLE-STRUCTURED-LOCATION;VALUE=URI;X-ADDRESS=Clubhaus Weddigenufer 23 Hannover 30167 Deutschland;X-APPLE-RADIUS=500;X-TITLE=Weddigenufer 23:geo:9.715914,52.3776169
END:VEVENT
BEGIN:VEVENT
DTSTART;TZID=Europe/Berlin:20260418T100000
DTEND;TZID=Europe/Berlin:20260418T100000
DTSTAMP:20260425T000107
CREATED:20260108T095937Z
LAST-MODIFIED:20260108T100209Z
UID:10003334-1776506400-1776506400@www.hrc1912.de
SUMMARY:Kinder- und Jugendtraining
DESCRIPTION:Unser Straßentraining für Kinder führt Jungs und Mädchen zwischen 7 und 10 Jahren an den Rennradsport heran. Hierfür haben wir einmal die Woche am Samstag Training. Wir treffen uns immer am Clubhaus und fahren gemeinsam etwa 1 bis 1½ Stunden. \nUnser Straßentraining für Jugendliche führt Jungs und Mädchen zwischen 11 und 17 Jahren an den Rennradsport heran. Wir treffen uns immer am Clubhaus und fahren zwischen 1½ und 2½ Stunden in die Region Hannover. \nBeginner sind stets gerne willkommen\, wir freuen uns allerdings immer über eine kurze Ankündigung 🙂.
URL:https://www.hrc1912.de/termin/kinder-und-jugendtraining/2026-04-18/
LOCATION:Clubhaus\, Weddigenufer 23\, Hannover\, 30167\, Deutschland
CATEGORIES:Nachwuchs,Rennsport
ATTACH;FMTTYPE=image/jpeg:https://www.hrc1912.de/media/uploads/2021/01/kindertraining-banner.jpg
ORGANIZER;CN="Hannoverscher Radsport Club von 1912":MAILTO:info@hrc1912.de
GEO:52.3776169;9.715914
X-APPLE-STRUCTURED-LOCATION;VALUE=URI;X-ADDRESS=Clubhaus Weddigenufer 23 Hannover 30167 Deutschland;X-APPLE-RADIUS=500;X-TITLE=Weddigenufer 23:geo:9.715914,52.3776169
END:VEVENT
BEGIN:VEVENT
DTSTART;TZID=Europe/Berlin:20260418T100000
DTEND;TZID=Europe/Berlin:20260418T100000
DTSTAMP:20260425T000107
CREATED:20210602T104559Z
LAST-MODIFIED:20251112T231916Z
UID:10003266-1776506400-1776506400@www.hrc1912.de
SUMMARY:Gemeinsame Samstagsausfahrt
DESCRIPTION:Wir laden euch herzlich ein\, jeden Samstagmorgen an unserer gemeinsamen Trainingsausfahrt teilzunehmen. Dieses Angebot richtet sich an alle Rennradfahrerinnen und Rennradfahrer\, die nicht nur ihre Ausdauer und Technik verbessern\, sondern auch die Freude am gemeinsamen Radfahren in entspannter Atmosphäre genießen möchten. Die Ausfahrten am Samstag finden in einem moderat sportlichen Tempo statt\, sodass sowohl ambitionierte Fahrer als auch Hobbyradler voll auf ihre Kosten kommen. Im Vordergrund stehen das gemeinsame Erlebnis auf dem Rad\, die landschaftlich reizvolle Streckenführung sowie der Teamgeist. \nStart- und Zielpunkt ist immer unser Clubhaus\, von dem aus wir i.d.R. kurz nach 10 Uhr losfahren. Die Streckenlänge variiert je nach Wetter und Gruppenzusammensetzung\, liegt aber in der Regel zwischen 60 und 100 Kilometern. Unterwegs legen wir gerne einen kurzen Zwischenstopp in einem Eiscafé oder einer Bäckerei ein – eine kleine Pause für Kaffee\, Kuchen oder ein erfrischendes Getränk gehört einfach dazu. \nIm Anschluss an die Tour besteht zudem häufig die Möglichkeit\, im Clubhaus bei Kaffee und Kuchen oder einem kleinen Imbiss den Vormittag gemütlich ausklingen zu lassen. Der Samstagstermin eignet sich daher ideal\, um neue Kontakte zu knüpfen\, sich mit anderen Radsportbegeisterten auszutauschen oder einfach gemeinsam eine schöne Zeit zu verbringen. \nInteressierte Rennradfahrerinnen und -fahrer sind jederzeit herzlich willkommen! Ganz gleich\, ob bereits Vereinsmitglied oder nicht – wer Spaß am Rennradfahren hat und sich gerne einer freundlichen Gruppe anschließen möchte\, ist bei uns genau richtig. Also schnappt euch euer Rennrad\, bringt gute Laune mit und seid dabei – wir freuen uns auf viele gemeinsame Kilometer mit euch!
URL:https://www.hrc1912.de/termin/gemeinsame-samstagsausfahrt/2026-04-18/
LOCATION:Clubhaus\, Weddigenufer 23\, Hannover\, 30167\, Deutschland
CATEGORIES:Breitensport,Straße
ATTACH;FMTTYPE=image/jpeg:https://www.hrc1912.de/media/uploads/2020/12/rennsporttraining-banner-2021.jpg
GEO:52.3776169;9.715914
X-APPLE-STRUCTURED-LOCATION;VALUE=URI;X-ADDRESS=Clubhaus Weddigenufer 23 Hannover 30167 Deutschland;X-APPLE-RADIUS=500;X-TITLE=Weddigenufer 23:geo:9.715914,52.3776169
END:VEVENT
BEGIN:VEVENT
DTSTART;TZID=Europe/Berlin:20260417T190000
DTEND;TZID=Europe/Berlin:20260417T220000
DTSTAMP:20260425T000107
CREATED:20250523T223133Z
LAST-MODIFIED:20251120T224133Z
UID:10002929-1776452400-1776463200@www.hrc1912.de
SUMMARY:Clubabend
DESCRIPTION:Für einen gemütlichen Austausch\, einen kleinen Schnack und ein kühles Getränk unter Vereinskollegen treffen wir uns jeden dritten Freitag im Monat ab 19:00 Uhr in unserem Clubhaus. Bei schönem Wetter verlegen wir den Abend in den warmen Monaten gern auf unsere Terrasse. Ob für ein kurzes Vorbeischauen oder einen längeren Plausch – alle Mitglieder sind herzlich eingeladen. \nDarüber hinaus bietet der Clubabend eine gute Gelegenheit\, Fragen an den Vorstand zu stellen\, Ideen einzubringen oder gemeinsame Vorhaben zu besprechen – sei es zur Rennsportplanung\, zu Vereinsaktivitäten oder zur Weiterentwicklung unseres Clubs. Wir freuen uns sehr auf eure Ideen\, Impulse und den offenen Austausch – bringt euch gern ein!
URL:https://www.hrc1912.de/termin/clubabend/2026-04-17/
LOCATION:Clubhaus\, Weddigenufer 23\, Hannover\, 30167\, Deutschland
CATEGORIES:Allgemein
ATTACH;FMTTYPE=image/jpeg:https://www.hrc1912.de/media/uploads/2021/07/clubabend-banner1.jpg
GEO:52.3776169;9.715914
X-APPLE-STRUCTURED-LOCATION;VALUE=URI;X-ADDRESS=Clubhaus Weddigenufer 23 Hannover 30167 Deutschland;X-APPLE-RADIUS=500;X-TITLE=Weddigenufer 23:geo:9.715914,52.3776169
END:VEVENT
BEGIN:VEVENT
DTSTART;TZID=Europe/Berlin:20260330T180000
DTEND;TZID=Europe/Berlin:20260330T193000
DTSTAMP:20260425T000107
CREATED:20251029T143954Z
LAST-MODIFIED:20251110T095713Z
UID:10003227-1774893600-1774899000@www.hrc1912.de
SUMMARY:Nachwuchs Rollentraining
DESCRIPTION:Beim Rollentraining auf der freien Rolle holen wir das echte Fahrgefühl in die Halle. Hier geht es um Konzentration\, Balance und puren Speed! Wir feilen gemeinsam an eurer Trittfrequenz\, verbessern eure Koordination spielerisch und machen euch fit für die kommende Saison. Bringt euer Rennrad oder Sportrad mit – es ist die perfekte Gelegenheit\, eure Radbeherrschung auf ein neues Level zu heben und gemeinsam richtig Gas zu geben und packt darüber hinaus bitte ein Handtuch (ihr werdet es brauchen!)\, ausreichend Wasser und eure beste Laune ein! Wir freuen uns auf spannende und schweißtreibende Einheiten mit euch! \nBitte beachtet\, dass eure Rennräder einen Radstand zwischen 980 mm und 1100 mm haben müssen\, andernfalls sind eure Räder leider nicht mit den freien Rollen kompatibel.
URL:https://www.hrc1912.de/termin/nachwuchs-rollentraining/2026-03-30/
LOCATION:Clubhaus\, Weddigenufer 23\, Hannover\, 30167\, Deutschland
CATEGORIES:Nachwuchs
ATTACH;FMTTYPE=image/jpeg:https://www.hrc1912.de/media/uploads/2020/10/banner-rollentraining-nachwuchs.jpg
ORGANIZER;CN="Hannoverscher Radsport Club von 1912":MAILTO:info@hrc1912.de
GEO:52.3776169;9.715914
X-APPLE-STRUCTURED-LOCATION;VALUE=URI;X-ADDRESS=Clubhaus Weddigenufer 23 Hannover 30167 Deutschland;X-APPLE-RADIUS=500;X-TITLE=Weddigenufer 23:geo:9.715914,52.3776169
END:VEVENT
BEGIN:VEVENT
DTSTART;TZID=Europe/Berlin:20260328T100000
DTEND;TZID=Europe/Berlin:20260328T100000
DTSTAMP:20260425T000107
CREATED:20251006T083454Z
LAST-MODIFIED:20251023T122431Z
UID:10003184-1774692000-1774692000@www.hrc1912.de
SUMMARY:CX/Gravel Training
DESCRIPTION:Unser wöchentliches CX/Gravel-Training richtet sich an alle\, die Spaß am Fahren abseits der Straße haben – egal ob Einsteiger oder erfahrener Crossfahrer.Gemeinsam fahren wir abwechslungsreiche Runden auf Wald-\, Wiesen- und Schotterwegen\, arbeiten an Fahrtechnik\, Kurventechnik und Ausdauer – ohne Leistungsdruck\, aber mit viel Motivation und guter Laune. \nDer Start ist jeden Samstag um 10 Uhr am Clubhaus. Je nach Gruppe und Wetter variieren Strecke und Intensität. Hauptsache: draußen\, gemeinsam und mit Spaß dabei!
URL:https://www.hrc1912.de/termin/cx-gravel-training/2026-03-28/
LOCATION:Clubhaus\, Weddigenufer 23\, Hannover\, 30167\, Deutschland
CATEGORIES:CX/Gravel,Rennsport
ATTACH;FMTTYPE=image/jpeg:https://www.hrc1912.de/media/uploads/2025/10/cxgravel-banner-2025.jpg
ORGANIZER;CN="Hannoverscher Radsport Club von 1912":MAILTO:info@hrc1912.de
GEO:52.3776169;9.715914
X-APPLE-STRUCTURED-LOCATION;VALUE=URI;X-ADDRESS=Clubhaus Weddigenufer 23 Hannover 30167 Deutschland;X-APPLE-RADIUS=500;X-TITLE=Weddigenufer 23:geo:9.715914,52.3776169
END:VEVENT
BEGIN:VEVENT
DTSTART;TZID=Europe/Berlin:20260321T080000
DTEND;TZID=Europe/Berlin:20260321T080000
DTSTAMP:20260425T000107
CREATED:20241103T135507Z
LAST-MODIFIED:20250916T102411Z
UID:10003139-1774080000-1774080000@www.hrc1912.de
SUMMARY:Weser-Leinebergland Brevet
DESCRIPTION:Weitere Infos findet ihr auf der Website des Veranstalters.
URL:https://www.hrc1912.de/termin/weser-leinebergland-brevet/2026-03-21/
LOCATION:Clubhaus\, Weddigenufer 23\, Hannover\, 30167\, Deutschland
CATEGORIES:Breitensport,Brevet
GEO:52.3776169;9.715914
X-APPLE-STRUCTURED-LOCATION;VALUE=URI;X-ADDRESS=Clubhaus Weddigenufer 23 Hannover 30167 Deutschland;X-APPLE-RADIUS=500;X-TITLE=Weddigenufer 23:geo:9.715914,52.3776169
END:VEVENT
BEGIN:VEVENT
DTSTART;TZID=Europe/Berlin:20260317T190000
DTEND;TZID=Europe/Berlin:20260317T190000
DTSTAMP:20260425T000107
CREATED:20251125T102816Z
LAST-MODIFIED:20251125T102950Z
UID:10003319-1773774000-1773774000@www.hrc1912.de
SUMMARY:ZWIFT Training
DESCRIPTION:Mach mit bei unserem wöchentlichen virtuellen Training auf ZWIFT! Gemeinsam trainieren wir in einer motivierenden Gruppe\, verbessern unsere Leistung und haben jede Menge Spaß. Egal\, ob Anfänger oder Profi – alle Mitglieder sind willkommen! \nDas Training findet über die dunkle Jahreszeit wöchentlich virtuell über die Online-Platform ZWIFT statt. Den Link und weitere Infos findest du direkt über unseren ZWIFT-Club. Alles\, was du brauchst\, ist ein Fahrrad\, ein Rollentrainer oder Smart-Trainer sowie die ZWIFT-App. \nSchau in unserem ZWIFT Club vorbei und sei dabei – wir freuen uns auf dich!
URL:https://www.hrc1912.de/termin/zwift-training/2026-03-17/
LOCATION:Clubhaus\, Weddigenufer 23\, Hannover\, 30167\, Deutschland
CATEGORIES:E-Sports,Rennsport
ATTACH;FMTTYPE=image/jpeg:https://www.hrc1912.de/media/uploads/2020/10/banner-rollentraining-rennsport.jpg
ORGANIZER;CN="Hannoverscher Radsport Club von 1912":MAILTO:info@hrc1912.de
GEO:52.3776169;9.715914
X-APPLE-STRUCTURED-LOCATION;VALUE=URI;X-ADDRESS=Clubhaus Weddigenufer 23 Hannover 30167 Deutschland;X-APPLE-RADIUS=500;X-TITLE=Weddigenufer 23:geo:9.715914,52.3776169
END:VEVENT
BEGIN:VEVENT
DTSTART;TZID=Europe/Berlin:20260301T100000
DTEND;TZID=Europe/Berlin:20260301T100000
DTSTAMP:20260425T000107
CREATED:20240205T233052Z
LAST-MODIFIED:20260226T113425Z
UID:10001396-1772359200-1772359200@www.hrc1912.de
SUMMARY:CTF „Schlösser\, Türme & Riesen“
DESCRIPTION:Informationen zur Veranstaltung\n			\n				\n				\n				\n				\n				Anmeldung & Gebühren\nAuf der etwa 55km langen Strecke habt ihr die Wahl\, euch geführten Gruppen anzuschließen oder auf eigene Faust nach GPS zu fahren. Gestartet wird um 10 Uhr von unserem Clubhaus am Weddigenufer. Ob Mitglied eines Radsportvereins oder nicht\, alle Radfahrer sind herzlich willkommen! Clubmitglieder dürfen selbstverständlich wie gewohnt kostenlos starten. \nFür Teilnehmer mit einer Breitensportlizenz im Einzugsbereich des BDR erheben wir ein Startgeld von 7\,00 €. Für Sportler ohne Breitensportlizenz (sog. Trimmfahrer) werden 10\,00 € Startgeld fällig. Bitte haltet den passenden Betrag bereit\, da wir einen Geldwechsel aus Gründen der Organisation möglichst vermeiden möchten. \nÄnderungen der Routen bis zum Start aufgrund geänderter Verkehrsführung vorbehalten. \nWir freuen uns auf euch!\n			\n			\n				\n				\n				\n				\n				\n				\n				\n				\n				\n				Links & Downloads\n			\n				\n				\n				\n				\n				\n				\n				\n					\n							\n								\n								\n									CTF Reglement\n									\n									 \n								\n							\n							\n							\n							\n							\n							\n						\n				\n			\n				\n				\n				\n				\n				\n				\n				\n					\n							\n								\n								\n									komoot collection\n									\n									 \n								\n							\n							\n							\n							\n							\n							\n						\n				\n			\n				\n				\n				\n				\n				\n				\n				\n					\n							\n								\n								\n									BDR Touren App\n									\n									 \n								\n							\n							\n							\n							\n							\n							\n						\n				\n			\n				\n				\n				\n				\n				Gesponsert von
URL:https://www.hrc1912.de/termin/ctf-schloesser-tuerme-riesen/
LOCATION:Clubhaus\, Weddigenufer 23\, Hannover\, 30167\, Deutschland
CATEGORIES:Breitensport,CTF
ATTACH;FMTTYPE=image/webp:https://www.hrc1912.de/media/uploads/2024/02/ctf2025.webp
ORGANIZER;CN="Hannoverscher Radsport Club von 1912":MAILTO:info@hrc1912.de
GEO:52.3776169;9.715914
X-APPLE-STRUCTURED-LOCATION;VALUE=URI;X-ADDRESS=Clubhaus Weddigenufer 23 Hannover 30167 Deutschland;X-APPLE-RADIUS=500;X-TITLE=Weddigenufer 23:geo:9.715914,52.3776169
END:VEVENT
BEGIN:VEVENT
DTSTART;TZID=Europe/Berlin:20251018T100000
DTEND;TZID=Europe/Berlin:20251018T100000
DTSTAMP:20260425T000107
CREATED:20250915T085404Z
LAST-MODIFIED:20251017T131829Z
UID:10003138-1760781600-1760781600@www.hrc1912.de
SUMMARY:Saisonabschluss & Herbstklassiker
DESCRIPTION:Informationen zur Veranstaltung\n			\n				\n				\n				\n				\n				Gemeinsame Tour zum Saisonabschluss\nZum Saisonende möchten wir gemeinsam mit euch noch einmal eine gemütliche Samstags-Ausfahrt genießen. Treffpunkt ist wie gewohnt um 10:00 Uhr\, Start an unserem üblichen Standort. Die Route führt uns diesmal zu einem unserer Sponsoren und bietet die perfekte Gelegenheit\, die Saison sportlich und gesellig ausklingen zu lassen. Sie ist bereits online einsehbar – ladet gerne Freunde und Bekannte ein und seid mit dabei! \nZwischenstopp mit Verpflegung bei bunnyhop\nUnser beliebter Kaffee-Stopp findet dieses Mal bei bunnyhop in Hameln statt. Dort erwartet uns ein kleines Catering\, spannende Fahrrad-Neuheiten und natürlich jede Menge Fachsimpeln rund ums Radfahren. \nWir freuen uns auf eine schöne gemeinsame Tour und einen entspannten Saisonabschluss! \n			\n			\n				\n				\n				\n				\n				\n				\n				\n				\n				\n				Links & Downloads\n			\n				\n				\n				\n				\n				\n				\n				\n					\n							\n								\n								\n									Grouprides.cc\n									\n									 \n								\n							\n							\n							\n							\n							\n							\n						\n				\n			\n				\n				\n				\n				\n				\n				\n				\n					\n							\n								\n								\n									komoot Tour\n									\n									 \n								\n							\n							\n							\n							\n							\n							\n						\n				\n			\n				\n				\n				\n				\n				Gesponsert von
URL:https://www.hrc1912.de/termin/saisonabschluss-herbstklassiker/
LOCATION:Clubhaus\, Weddigenufer 23\, Hannover\, 30167\, Deutschland
CATEGORIES:Breitensport,Rennsport
ATTACH;FMTTYPE=image/jpeg:https://www.hrc1912.de/media/uploads/2021/10/paschenburg-banner-2022.jpg
ORGANIZER;CN="Hannoverscher Radsport Club von 1912":MAILTO:info@hrc1912.de
GEO:52.3776169;9.715914
X-APPLE-STRUCTURED-LOCATION;VALUE=URI;X-ADDRESS=Clubhaus Weddigenufer 23 Hannover 30167 Deutschland;X-APPLE-RADIUS=500;X-TITLE=Weddigenufer 23:geo:9.715914,52.3776169
END:VEVENT
BEGIN:VEVENT
DTSTART;TZID=Europe/Berlin:20250726T100000
DTEND;TZID=Europe/Berlin:20250726T100000
DTSTAMP:20260425T000107
CREATED:20250520T131617Z
LAST-MODIFIED:20250723T204956Z
UID:10002863-1753524000-1753524000@www.hrc1912.de
SUMMARY:Vuelta de Tapas – HRC1912 x GOBIK
DESCRIPTION:Gemeinsam radeln\, gemeinsam genießen!\n			\n				\n				\n				\n				\n				Bereit für ein einzigartiges Erlebnis auf dem Rad? Bei der Vuelta de Tapas verbinden wir sportliche Leidenschaft mit kulinarischem Genuss. Dreh- und Angelpunkt ist unser schönes Clubhaus im Weddigenufer – der perfekte Spot\, um gemeinsam in entspannter Atmosphäre den Tag zu verbringen. \nGemeinsam mit unserem Partner GOBIK\, dem Experten für hochwertige Radsportbekleidung\, laden wir dich zu einem besonderen Tag auf dem Rad ein – ganz ohne Rennstress\, dafür mit viel Gemeinschaft\, Stil und guter Laune. Egal ob blutiger Anfänger oder Trainingsweltmeister: Die Ausfahrt ist prinzipiell für alle Radfahrer offen! \nDu hast die Wahl zwischen zwei Routen: Eine 45 km lange Strecke für Beginner und eine 60 km lange Runde für die Geübten unter euch. Beide Touren werden von ausgebildeten Trainern begleitet\, die nicht nur auf eure Sicherheit achten\, sondern auch Tipps geben\, wie ihr noch besser und entspannter unterwegs seid. Du kannst die Ausfahrt auch ganz entspannt als Drop-In Ride nutzen und dir wertvolle Tipps direkt unterwegs abholen. \n\nNach der Ausfahrt laden wir dich und deine Freunde zu einem gemütlichen Ausklang am Clubhaus ein: Leckere spanische Tapas von GOBIK und erstklassiger Kaffee\, Espresso oder Cappuccino von Café Loco mit ihrem stylischen Coffee Bike warten auf euch. Hier kannst du die Beine hochlegen\, neue Leute kennenlernen und den Tag entspannt ausklingen lassen. \n\nNatürlich ist auch GOBIK mit ausgewählter Radsportkleidung vor Ort und gibt dir exklusive Einblicke in ihre aktuelle Kollektion. Vielleicht wartet sogar das ein oder andere Goodie auf dich. \nSei dabei\, wenn sich zwei Leidenschaften – Radfahren und Genuss – zu einem Event der besonderen Art verbinden! \n\nDamit du entspannt starten kannst: Rucksäcke mit Wechselkleidung oder anderen Dingen dürfen gerne für den Zeitraum der Fahrt bei uns am Clubhaus abgeben werden. \n			\n			\n				\n				\n				\n				\n				\n				\n				\n				\n				\n				Routen & Links\n			\n				\n				\n				\n				\n				\n				\n				\n					\n							\n								\n								\n									Grouprides.cc\n									\n									 \n								\n							\n							\n							\n							\n							\n							\n						\n				\n			\n				\n				\n				\n				\n				\n				\n				\n					\n							\n								\n								\n									komoot collection\n									\n									 \n								\n							\n							\n							\n							\n							\n							\n						\n				\n			\n				\n				\n				\n				\n				Gesponsert von
URL:https://www.hrc1912.de/termin/vuelta-de-tapas-hrc1912-x-gobik/
LOCATION:Clubhaus\, Weddigenufer 23\, Hannover\, 30167\, Deutschland
CATEGORIES:Breitensport
ATTACH;FMTTYPE=image/jpeg:https://www.hrc1912.de/media/uploads/2025/05/HRC1912-x-GOBIK.jpg
ORGANIZER;CN="Hannoverscher Radsport Club von 1912":MAILTO:info@hrc1912.de
GEO:52.3776169;9.715914
X-APPLE-STRUCTURED-LOCATION;VALUE=URI;X-ADDRESS=Clubhaus Weddigenufer 23 Hannover 30167 Deutschland;X-APPLE-RADIUS=500;X-TITLE=Weddigenufer 23:geo:9.715914,52.3776169
END:VEVENT
BEGIN:VEVENT
DTSTART;TZID=Europe/Berlin:20250627T180000
DTEND;TZID=Europe/Berlin:20250627T180000
DTSTAMP:20260425T000108
CREATED:20250604T141513Z
LAST-MODIFIED:20250610T135822Z
UID:10002981-1751047200-1751047200@www.hrc1912.de
SUMMARY:Mittsommernachtslauf
DESCRIPTION:Weitere Infos findet ihr auf der Website des Veranstalters.
URL:https://www.hrc1912.de/termin/mittsommernachtslauf/
LOCATION:Clubhaus\, Weddigenufer 23\, Hannover\, 30167\, Deutschland
CATEGORIES:Allgemein,Breitensport
ORGANIZER;CN="Trimindous UG":MAILTO:trimindous@gmail.com
GEO:52.3776169;9.715914
X-APPLE-STRUCTURED-LOCATION;VALUE=URI;X-ADDRESS=Clubhaus Weddigenufer 23 Hannover 30167 Deutschland;X-APPLE-RADIUS=500;X-TITLE=Weddigenufer 23:geo:9.715914,52.3776169
END:VEVENT
BEGIN:VEVENT
DTSTART;TZID=Europe/Berlin:20250622T090000
DTEND;TZID=Europe/Berlin:20250622T090000
DTSTAMP:20260425T000108
CREATED:20250620T063133Z
LAST-MODIFIED:20250620T063305Z
UID:10002984-1750582800-1750582800@www.hrc1912.de
SUMMARY:Sonntagstour
DESCRIPTION:Mehr Infos in Kürze!
URL:https://www.hrc1912.de/termin/sonntagstour/
LOCATION:Clubhaus\, Weddigenufer 23\, Hannover\, 30167\, Deutschland
CATEGORIES:Breitensport
ORGANIZER;CN="Hannoverscher Radsport Club von 1912":MAILTO:info@hrc1912.de
GEO:52.3776169;9.715914
X-APPLE-STRUCTURED-LOCATION;VALUE=URI;X-ADDRESS=Clubhaus Weddigenufer 23 Hannover 30167 Deutschland;X-APPLE-RADIUS=500;X-TITLE=Weddigenufer 23:geo:9.715914,52.3776169
END:VEVENT
BEGIN:VEVENT
DTSTART;TZID=Europe/Berlin:20250330T100000
DTEND;TZID=Europe/Berlin:20250330T100000
DTSTAMP:20260425T000108
CREATED:20241128T005249Z
LAST-MODIFIED:20241129T104901Z
UID:10002614-1743328800-1743328800@www.hrc1912.de
SUMMARY:Wintertraining
DESCRIPTION:Details folgen in Kürze!
URL:https://www.hrc1912.de/termin/wintertraining/2025-03-30/
LOCATION:Clubhaus\, Weddigenufer 23\, Hannover\, 30167\, Deutschland
CATEGORIES:Rennsport,Straße
ATTACH;FMTTYPE=image/jpeg:https://www.hrc1912.de/media/uploads/2024/11/wintertraining-banner.jpg
ORGANIZER;CN="Hannoverscher Radsport Club von 1912":MAILTO:info@hrc1912.de
GEO:52.3776169;9.715914
X-APPLE-STRUCTURED-LOCATION;VALUE=URI;X-ADDRESS=Clubhaus Weddigenufer 23 Hannover 30167 Deutschland;X-APPLE-RADIUS=500;X-TITLE=Weddigenufer 23:geo:9.715914,52.3776169
END:VEVENT
BEGIN:VEVENT
DTSTART;TZID=Europe/Berlin:20241207T170000
DTEND;TZID=Europe/Berlin:20241207T210000
DTSTAMP:20260425T000108
CREATED:20241127T202054Z
LAST-MODIFIED:20241204T113006Z
UID:10002275-1733590800-1733605200@www.hrc1912.de
SUMMARY:Christmas Get-Together
DESCRIPTION:Wir laden euch herzlich zu unserem Christmas Get-Together am Samstag\, den 7. Dezember ein. Ab 17 Uhr heißen wir euch willkommen\, um das Jahr entspannt ausklingen zu lassen. Freut euch auf einen weihnachtlich eingestimmten Abend in stimmungsvoller Atmosphäre bei knisterndem Lagerfeuer. Wir halten kleine Leckereien und Getränke gegen einen kleinen Beitrag für euch bereit. Willkommen sind alle Mitglieder\, eure Familien und Freunde des Radsports. \nAufgrund der laufenden Umbauarbeiten findet das Event ausschließlich draußen auf der Terrasse statt. Denkt bitte an warme Kleidung\, damit wir gemeinsam einen gemütlichen Abend verbringen können. Der Eintritt ist kostenlos.
URL:https://www.hrc1912.de/termin/christmas-get-together/
LOCATION:Clubhaus\, Weddigenufer 23\, Hannover\, 30167\, Deutschland
CATEGORIES:Allgemein
ATTACH;FMTTYPE=image/jpeg:https://www.hrc1912.de/media/uploads/2024/12/christmasgettogether-banner.jpg
ORGANIZER;CN="Hannoverscher Radsport Club von 1912":MAILTO:info@hrc1912.de
GEO:52.3776169;9.715914
X-APPLE-STRUCTURED-LOCATION;VALUE=URI;X-ADDRESS=Clubhaus Weddigenufer 23 Hannover 30167 Deutschland;X-APPLE-RADIUS=500;X-TITLE=Weddigenufer 23:geo:9.715914,52.3776169
END:VEVENT
END:VCALENDAR